BEGIN:VCALENDAR
VERSION:2.0
PRODID:-//Paul M. Näger - ECPv6.15.20//NONSGML v1.0//EN
CALSCALE:GREGORIAN
METHOD:PUBLISH
X-WR-CALNAME:Paul M. Näger
X-ORIGINAL-URL:https://paulnaeger.org
X-WR-CALDESC:Events for Paul M. Näger
REFRESH-INTERVAL;VALUE=DURATION:PT1H
X-Robots-Tag:noindex
X-PUBLISHED-TTL:PT1H
BEGIN:VTIMEZONE
TZID:Europe/Berlin
BEGIN:DAYLIGHT
TZOFFSETFROM:+0100
TZOFFSETTO:+0200
TZNAME:CEST
DTSTART:20170326T010000
END:DAYLIGHT
BEGIN:STANDARD
TZOFFSETFROM:+0200
TZOFFSETTO:+0100
TZNAME:CET
DTSTART:20171029T010000
END:STANDARD
BEGIN:DAYLIGHT
TZOFFSETFROM:+0100
TZOFFSETTO:+0200
TZNAME:CEST
DTSTART:20180325T010000
END:DAYLIGHT
BEGIN:STANDARD
TZOFFSETFROM:+0200
TZOFFSETTO:+0100
TZNAME:CET
DTSTART:20181028T010000
END:STANDARD
BEGIN:DAYLIGHT
TZOFFSETFROM:+0100
TZOFFSETTO:+0200
TZNAME:CEST
DTSTART:20190331T010000
END:DAYLIGHT
BEGIN:STANDARD
TZOFFSETFROM:+0200
TZOFFSETTO:+0100
TZNAME:CET
DTSTART:20191027T010000
END:STANDARD
END:VTIMEZONE
BEGIN:VEVENT
DTSTART;TZID=Europe/Berlin:20180719T181500
DTEND;TZID=Europe/Berlin:20180719T194500
DTSTAMP:20260421T184411
CREATED:20180512T205217Z
LAST-MODIFIED:20180512T205602Z
UID:545-1532024100-1532029500@paulnaeger.org
SUMMARY:Talk: ‘Can mind influence matter? The problem of mental causation’ [de]
DESCRIPTION:“Open frame lectures”\, University of Fine Arts\, Münster
URL:https://paulnaeger.org/event/talk-can-mind-influence-matter-the-problem-of-mental-causation-de/
CATEGORIES:Talk
END:VEVENT
BEGIN:VEVENT
DTSTART;VALUE=DATE:20180710
DTEND;VALUE=DATE:20180714
DTSTAMP:20260421T184411
CREATED:20180512T200925Z
LAST-MODIFIED:20180512T201834Z
UID:537-1531180800-1531526399@paulnaeger.org
SUMMARY:Talk: ‘A stronger Bell argument for (Some kind of) Parameter Dependence’
DESCRIPTION:The 19th UK and European Conference on Foundations of Physics\, Utrecht 2018
URL:https://paulnaeger.org/event/talk-a-stronger-bell-argument-for-some-kind-of-parameter-dependence/
CATEGORIES:Talk
END:VEVENT
BEGIN:VEVENT
DTSTART;TZID=Europe/Berlin:20180628T110000
DTEND;TZID=Europe/Berlin:20180628T123000
DTSTAMP:20260421T184411
CREATED:20180512T195243Z
LAST-MODIFIED:20180512T200329Z
UID:529-1530183600-1530189000@paulnaeger.org
SUMMARY:Talk: ‘Quantum entanglement: Bell's theorem against local causality’ [de]
DESCRIPTION:Training for physics teachers (German Physical Society\, DPG): Characteristic traits of quantum theory\, Bad Honnef
URL:https://paulnaeger.org/event/talk-quantum-entanglement-bells-theorem-against-local-causality/
CATEGORIES:Talk
END:VEVENT
BEGIN:VEVENT
DTSTART;TZID=Europe/Berlin:20180626T163000
DTEND;TZID=Europe/Berlin:20180626T180000
DTSTAMP:20260421T184411
CREATED:20180512T200012Z
LAST-MODIFIED:20180512T200336Z
UID:534-1530030600-1530036000@paulnaeger.org
SUMMARY:Talk: ‘Holism in quantum physics’ [de]
DESCRIPTION:Training for physics teachers (German Physical Society\, DPG): Characteristic traits of quantum theory\, Bad Honnef
URL:https://paulnaeger.org/event/talk-holism-in-quantum-physics-de/
CATEGORIES:Talk
END:VEVENT
END:VCALENDAR